BEGIN:VCALENDAR
VERSION:2.0
PRODID:icalendar-ruby
CALSCALE:GREGORIAN
METHOD:PUBLISH
BEGIN:VEVENT
DTSTAMP:20260421T080446Z
UID:11-409793@fbclangley.com
DTSTART:20261101T153000Z
DTEND:20261101T163000Z
CLASS:PUBLIC
CREATED:20260420T201558
DESCRIPTION:Sunday School
LAST-MODIFIED:20260420T201558
LOCATION:
SUMMARY:Sunday School
URL;VALUE=URI:https://fbclangley.com/events/sunday-school/2026-11-01
END:VEVENT
END:VCALENDAR
