BEGIN:VCALENDAR
VERSION:2.0
PRODID:icalendar-ruby
CALSCALE:GREGORIAN
METHOD:PUBLISH
BEGIN:VEVENT
DTSTAMP:20260421T062652Z
UID:11-409792@fbclangley.com
DTSTART:20261025T143000Z
DTEND:20261025T153000Z
CLASS:PUBLIC
CREATED:20260420T201558
DESCRIPTION:Sunday School
LAST-MODIFIED:20260420T201558
LOCATION:
SUMMARY:Sunday School
URL;VALUE=URI:https://fbclangley.com/events/sunday-school/2026-10-25
END:VEVENT
END:VCALENDAR
