BEGIN:VCALENDAR
VERSION:2.0
PRODID:icalendar-ruby
CALSCALE:GREGORIAN
METHOD:PUBLISH
BEGIN:VEVENT
DTSTAMP:20260421T043807Z
UID:11-409791@fbclangley.com
DTSTART:20261018T143000Z
DTEND:20261018T153000Z
CLASS:PUBLIC
CREATED:20260420T201558
DESCRIPTION:Sunday School
LAST-MODIFIED:20260420T201558
LOCATION:
SUMMARY:Sunday School
URL;VALUE=URI:https://fbclangley.com/events/sunday-school/2026-10-18
END:VEVENT
END:VCALENDAR
