BEGIN:VCALENDAR
VERSION:2.0
PRODID:icalendar-ruby
CALSCALE:GREGORIAN
METHOD:PUBLISH
BEGIN:VEVENT
DTSTAMP:20260423T083955Z
UID:11-413616@fbclangley.com
DTSTART:20261004T143000Z
DTEND:20261004T153000Z
CLASS:PUBLIC
CREATED:20260422T221055
DESCRIPTION:Sunday School
LAST-MODIFIED:20260422T221055
LOCATION:
SUMMARY:Sunday School
URL;VALUE=URI:https://fbclangley.com/events/sunday-school/2026-10-04
END:VEVENT
END:VCALENDAR
